BEGIN:VCALENDAR
VERSION:2.0
PRODID:-//www.strongfoundationsnh.org//NONSGML kigkonsult.se iCalcreator 2.
 30.10//
CALSCALE:GREGORIAN
METHOD:PUBLISH
UID:90c8f182-6165-4a9d-a587-024bd0d0e41c
X-WR-CALDESC:
X-WR-RELCALID:2b01d2bb6f52d0a6b4075f1bf037a2aa
X-WR-TIMEZONE:America/New_York
BEGIN:VTIMEZONE
TZID:America/New_York
BEGIN:STANDARD
TZNAME:EST
DTSTART:20231105T020000
TZOFFSETFROM:-0400
TZOFFSETTO:-0500
RDATE:20241103T020000
RDATE:20251102T020000
END:STANDARD
BEGIN:DAYLIGHT
TZNAME:EDT
DTSTART:20240310T020000
TZOFFSETFROM:-0500
TZOFFSETTO:-0400
RDATE:20250309T020000
END:DAYLIGHT
END:VTIMEZONE
BEGIN:VEVENT
UID:bc602e28-928e-4ca5-8c9d-f846879791fb
DTSTAMP:20260421T205702Z
DESCRIPTION:
DTSTART;TZID=America/New_York:20240821T173000
DTEND;TZID=America/New_York:20240821T183000
LOCATION:715 Riverwood Drive\, Library\, Pembroke\, AL 03275 US
SUMMARY:SFCS Board Meeting
END:VEVENT
END:VCALENDAR
