BEGIN:VCALENDAR
VERSION:2.0
PRODID:-//www.strongfoundationsnh.org//NONSGML kigkonsult.se iCalcreator 2.
 30.10//
CALSCALE:GREGORIAN
METHOD:PUBLISH
UID:5ad4784e-fe5a-43dd-8471-b58f4f0be613
X-WR-CALDESC:
X-WR-RELCALID:3e2ac7577b27a4e1184f05d2ff0483af
X-WR-TIMEZONE:America/New_York
BEGIN:VTIMEZONE
TZID:America/New_York
BEGIN:STANDARD
TZNAME:EST
DTSTART:20231105T020000
TZOFFSETFROM:-0400
TZOFFSETTO:-0500
RDATE:20241103T020000
RDATE:20251102T020000
END:STANDARD
BEGIN:DAYLIGHT
TZNAME:EDT
DTSTART:20240310T020000
TZOFFSETFROM:-0500
TZOFFSETTO:-0400
RDATE:20250309T020000
END:DAYLIGHT
END:VTIMEZONE
BEGIN:VEVENT
UID:5a973088-e715-4bd2-ade3-b51d33896f6a
DTSTAMP:20260421T193938Z
DESCRIPTION:
DTSTART;TZID=America/New_York:20240829T090000
DTEND;TZID=America/New_York:20240829T120000
LOCATION:
SUMMARY:Class Gathering
END:VEVENT
END:VCALENDAR
