BEGIN:VCALENDAR
VERSION:2.0
PRODID:-//www.strongfoundationsnh.org//NONSGML kigkonsult.se iCalcreator 2.
 30.10//
CALSCALE:GREGORIAN
METHOD:PUBLISH
UID:a93ca041-c6ce-4960-b015-945a58ccc7e9
X-WR-CALDESC:
X-WR-RELCALID:7bf51bc541dbc07cfe9f9a8ae57a7121
X-WR-TIMEZONE:America/New_York
BEGIN:VTIMEZONE
TZID:America/New_York
BEGIN:STANDARD
TZNAME:EST
DTSTART:20231105T020000
TZOFFSETFROM:-0400
TZOFFSETTO:-0500
RDATE:20241103T020000
RDATE:20251102T020000
END:STANDARD
BEGIN:DAYLIGHT
TZNAME:EDT
DTSTART:20240310T020000
TZOFFSETFROM:-0500
TZOFFSETTO:-0400
RDATE:20250309T020000
RDATE:20260308T020000
END:DAYLIGHT
END:VTIMEZONE
BEGIN:VEVENT
UID:0cbb5e66-4366-4da6-99d8-fd8caa69f507
DTSTAMP:20260421T174108Z
DESCRIPTION:
DTSTART;TZID=America/New_York:20240912T110000
DTEND;TZID=America/New_York:20240912T113000
LOCATION:
SUMMARY:Band Demo - 4th Grade
END:VEVENT
END:VCALENDAR
