BEGIN:VCALENDAR
VERSION:2.0
PRODID:-//www.strongfoundationsnh.org//NONSGML kigkonsult.se iCalcreator 2.
 30.10//
CALSCALE:GREGORIAN
METHOD:PUBLISH
UID:88480689-edf1-49f5-a900-9825655938ba
X-WR-CALDESC:Celebrate Mexican Independence Day and the beginning of Hispan
 ic Heritage month with a Mexican style fiesta!\nMexican Food\, songs\, cra
 fts\, and dancing!
X-WR-RELCALID:f457b83c9b03d23268dc84eccf6fd7a5
X-WR-TIMEZONE:America/New_York
BEGIN:VTIMEZONE
TZID:America/New_York
BEGIN:STANDARD
TZNAME:EST
DTSTART:20231105T020000
TZOFFSETFROM:-0400
TZOFFSETTO:-0500
RDATE:20241103T020000
RDATE:20251102T020000
END:STANDARD
BEGIN:DAYLIGHT
TZNAME:EDT
DTSTART:20240310T020000
TZOFFSETFROM:-0500
TZOFFSETTO:-0400
RDATE:20250309T020000
RDATE:20260308T020000
END:DAYLIGHT
END:VTIMEZONE
BEGIN:VEVENT
UID:b0fea656-a73a-4186-a171-34c98859ae15
DTSTAMP:20260421T143657Z
DESCRIPTION:Celebrate Mexican Independence Day and the beginning of Hispani
 c Heritage month with a Mexican style fiesta!\nMexican Food\, songs\, craf
 ts\, and dancing!
DTSTART;TZID=America/New_York:20240916T150000
DTEND;TZID=America/New_York:20240916T160000
LOCATION:
SUMMARY:Culture Fun Club
END:VEVENT
END:VCALENDAR
