BEGIN:VCALENDAR
VERSION:2.0
PRODID:-//www.strongfoundationsnh.org//NONSGML kigkonsult.se iCalcreator 2.
 30.10//
CALSCALE:GREGORIAN
METHOD:PUBLISH
UID:62245afb-607c-42aa-94d6-caae289c8e62
X-WR-CALDESC:
X-WR-RELCALID:df7daeaf5285ebdddb538cc73231bc00
X-WR-TIMEZONE:America/New_York
BEGIN:VTIMEZONE
TZID:America/New_York
BEGIN:STANDARD
TZNAME:EST
DTSTART:20231105T020000
TZOFFSETFROM:-0400
TZOFFSETTO:-0500
RDATE:20241103T020000
RDATE:20251102T020000
END:STANDARD
BEGIN:DAYLIGHT
TZNAME:EDT
DTSTART:20240310T020000
TZOFFSETFROM:-0500
TZOFFSETTO:-0400
RDATE:20250309T020000
RDATE:20260308T020000
END:DAYLIGHT
END:VTIMEZONE
BEGIN:VEVENT
UID:380d6646-8a36-49c7-ad71-c8d1ac7fe802
DTSTAMP:20260421T143857Z
DESCRIPTION:
DTSTART;TZID=America/New_York:20240918T060000
DTEND;TZID=America/New_York:20240918T060001
LOCATION:
SUMMARY:Picture Day
END:VEVENT
END:VCALENDAR
