BEGIN:VCALENDAR
VERSION:2.0
PRODID:-//www.strongfoundationsnh.org//NONSGML kigkonsult.se iCalcreator 2.
 30.10//
CALSCALE:GREGORIAN
METHOD:PUBLISH
UID:99fff1b8-af3a-4554-ba0c-0005c4f4b779
X-WR-CALDESC:
X-WR-RELCALID:960c99035e96cc430dc73ed5b89b336c
X-WR-TIMEZONE:America/New_York
BEGIN:VTIMEZONE
TZID:America/New_York
BEGIN:STANDARD
TZNAME:EST
DTSTART:20231105T020000
TZOFFSETFROM:-0400
TZOFFSETTO:-0500
RDATE:20241103T020000
RDATE:20251102T020000
END:STANDARD
BEGIN:DAYLIGHT
TZNAME:EDT
DTSTART:20240310T020000
TZOFFSETFROM:-0500
TZOFFSETTO:-0400
RDATE:20250309T020000
RDATE:20260308T020000
END:DAYLIGHT
END:VTIMEZONE
BEGIN:VEVENT
UID:a9800b6c-447b-4604-bc2a-c30220046045
DTSTAMP:20260421T144203Z
DESCRIPTION:
DTSTART;TZID=America/New_York:20240918T170000
DTEND;TZID=America/New_York:20240918T183000
LOCATION:
SUMMARY:SFES and SFCS Board Meeting
END:VEVENT
END:VCALENDAR
