BEGIN:VCALENDAR
VERSION:2.0
PRODID:-//www.strongfoundationsnh.org//NONSGML kigkonsult.se iCalcreator 2.
 30.10//
CALSCALE:GREGORIAN
METHOD:PUBLISH
UID:ff0f0770-e8ef-4e96-b0db-21b0e5eddde4
X-WR-CALDESC:
X-WR-RELCALID:d1c2244d9c0f396e9804285072349df9
X-WR-TIMEZONE:America/New_York
BEGIN:VTIMEZONE
TZID:America/New_York
BEGIN:STANDARD
TZNAME:EST
DTSTART:20231105T020000
TZOFFSETFROM:-0400
TZOFFSETTO:-0500
RDATE:20241103T020000
RDATE:20251102T020000
END:STANDARD
BEGIN:DAYLIGHT
TZNAME:EDT
DTSTART:20240310T020000
TZOFFSETFROM:-0500
TZOFFSETTO:-0400
RDATE:20250309T020000
RDATE:20260308T020000
END:DAYLIGHT
END:VTIMEZONE
BEGIN:VEVENT
UID:f6d49b96-353e-493b-8173-f49d0d5a813e
DTSTAMP:20260421T125737Z
DESCRIPTION:
DTSTART;TZID=America/New_York:20240925T143000
DTEND;TZID=America/New_York:20240925T160000
LOCATION:
SUMMARY:Mums Pickup
END:VEVENT
END:VCALENDAR
