BEGIN:VCALENDAR
VERSION:2.0
PRODID:-//www.strongfoundationsnh.org//NONSGML kigkonsult.se iCalcreator 2.
 30.10//
CALSCALE:GREGORIAN
METHOD:PUBLISH
UID:030c2e5a-2c79-4407-ab3e-4ffc976bb3ad
X-WR-CALDESC:
X-WR-RELCALID:40027b0e959bfc7b7d9c3c5d8f4454fd
X-WR-TIMEZONE:America/New_York
BEGIN:VTIMEZONE
TZID:America/New_York
BEGIN:STANDARD
TZNAME:EST
DTSTART:20231105T020000
TZOFFSETFROM:-0400
TZOFFSETTO:-0500
RDATE:20241103T020000
RDATE:20251102T020000
END:STANDARD
BEGIN:DAYLIGHT
TZNAME:EDT
DTSTART:20240310T020000
TZOFFSETFROM:-0500
TZOFFSETTO:-0400
RDATE:20250309T020000
RDATE:20260308T020000
END:DAYLIGHT
END:VTIMEZONE
BEGIN:VEVENT
UID:5ef39e84-02d9-43b4-97c0-510a94bbc06b
DTSTAMP:20260423T084141Z
DESCRIPTION:
DTSTART;TZID=America/New_York:20241003T170000
DTEND;TZID=America/New_York:20241003T190000
LOCATION:
SUMMARY:Open House for Elementary Students and Families
END:VEVENT
END:VCALENDAR
