BEGIN:VCALENDAR
VERSION:2.0
PRODID:-//www.strongfoundationsnh.org//NONSGML kigkonsult.se iCalcreator 2.
 30.10//
CALSCALE:GREGORIAN
METHOD:PUBLISH
UID:fe75f883-a84f-4af7-a3d7-8fa12e16afd1
X-WR-CALDESC:
X-WR-RELCALID:4c05a88f54020d4009e54c911b074e6f
X-WR-TIMEZONE:America/New_York
BEGIN:VTIMEZONE
TZID:America/New_York
BEGIN:STANDARD
TZNAME:EST
DTSTART:20231105T020000
TZOFFSETFROM:-0400
TZOFFSETTO:-0500
RDATE:20241103T020000
RDATE:20251102T020000
END:STANDARD
BEGIN:DAYLIGHT
TZNAME:EDT
DTSTART:20240310T020000
TZOFFSETFROM:-0500
TZOFFSETTO:-0400
RDATE:20250309T020000
RDATE:20260308T020000
END:DAYLIGHT
END:VTIMEZONE
BEGIN:VEVENT
UID:d4aa50a7-d3bb-4815-bb50-a9b48ce95a59
DTSTAMP:20260421T094349Z
DESCRIPTION:
DTSTART;TZID=America/New_York:20241011T083000
DTEND;TZID=America/New_York:20241011T123000
LOCATION:
SUMMARY:First Grade Planetarium Field Trip
END:VEVENT
END:VCALENDAR
