BEGIN:VCALENDAR
VERSION:2.0
PRODID:-//www.strongfoundationsnh.org//NONSGML kigkonsult.se iCalcreator 2.
 30.10//
CALSCALE:GREGORIAN
METHOD:PUBLISH
UID:8b064f1a-f730-4144-89ca-8cd714db6a3e
X-WR-CALDESC:ONLY for students sick on picture day
X-WR-RELCALID:95c2a644f995560fcdced530f14fd3ff
X-WR-TIMEZONE:America/New_York
BEGIN:VTIMEZONE
TZID:America/New_York
BEGIN:STANDARD
TZNAME:EST
DTSTART:20231105T020000
TZOFFSETFROM:-0400
TZOFFSETTO:-0500
RDATE:20241103T020000
RDATE:20251102T020000
END:STANDARD
BEGIN:DAYLIGHT
TZNAME:EDT
DTSTART:20240310T020000
TZOFFSETFROM:-0500
TZOFFSETTO:-0400
RDATE:20250309T020000
RDATE:20260308T020000
END:DAYLIGHT
END:VTIMEZONE
BEGIN:VEVENT
UID:8bd9881e-0e11-4740-94b8-7f5aa5f4e750
DTSTAMP:20260421T094233Z
DESCRIPTION:ONLY for students sick on picture day
DTSTART;TZID=America/New_York:20241011T060000
DTEND;TZID=America/New_York:20241011T060001
LOCATION:
SUMMARY:Picture Make Up Day
END:VEVENT
END:VCALENDAR
