BEGIN:VCALENDAR
VERSION:2.0
PRODID:-//www.strongfoundationsnh.org//NONSGML kigkonsult.se iCalcreator 2.
 30.10//
CALSCALE:GREGORIAN
METHOD:PUBLISH
UID:151d82e4-ecb0-4565-9364-209893a09b2c
X-WR-CALDESC:No School
X-WR-RELCALID:df1b66b42a7614af87bec7c323395d28
X-WR-TIMEZONE:America/New_York
BEGIN:VTIMEZONE
TZID:America/New_York
BEGIN:STANDARD
TZNAME:EST
DTSTART:20231105T020000
TZOFFSETFROM:-0400
TZOFFSETTO:-0500
RDATE:20241103T020000
RDATE:20251102T020000
END:STANDARD
BEGIN:DAYLIGHT
TZNAME:EDT
DTSTART:20240310T020000
TZOFFSETFROM:-0500
TZOFFSETTO:-0400
RDATE:20250309T020000
RDATE:20260308T020000
END:DAYLIGHT
END:VTIMEZONE
BEGIN:VEVENT
UID:e01ab38d-1b8e-4fc1-ab32-e2e76ac19a54
DTSTAMP:20260421T081102Z
DESCRIPTION:No School
DTSTART;TZID=America/New_York:20241014T060000
DTEND;TZID=America/New_York:20241014T060001
LOCATION:
SUMMARY:Columbus Day
END:VEVENT
END:VCALENDAR
