BEGIN:VCALENDAR
VERSION:2.0
PRODID:-//www.strongfoundationsnh.org//NONSGML kigkonsult.se iCalcreator 2.
 30.10//
CALSCALE:GREGORIAN
METHOD:PUBLISH
UID:fb719e45-1f85-4b96-bf5c-db7c2c6b0dd8
X-WR-CALDESC:In-person at the school library or online via Google Meet:\nMe
 eting ID\nmeet.google.com/pck-edpv-yme\nPhone Numbers\n(‪US‬)\n‪+1 510-945
 -0203‬\nPIN: ‪730 322 914#‬
X-WR-RELCALID:e4161d0df08162858aef6578f7eb6e98
X-WR-TIMEZONE:America/New_York
BEGIN:VTIMEZONE
TZID:America/New_York
BEGIN:STANDARD
TZNAME:EST
DTSTART:20231105T020000
TZOFFSETFROM:-0400
TZOFFSETTO:-0500
RDATE:20241103T020000
RDATE:20251102T020000
END:STANDARD
BEGIN:DAYLIGHT
TZNAME:EDT
DTSTART:20240310T020000
TZOFFSETFROM:-0500
TZOFFSETTO:-0400
RDATE:20250309T020000
RDATE:20260308T020000
END:DAYLIGHT
END:VTIMEZONE
BEGIN:VEVENT
UID:2ba1be4c-f469-4e90-81bb-8293f31202ce
DTSTAMP:20260421T081501Z
DESCRIPTION:In-person at the school library or online via Google Meet:\nMee
 ting ID\nmeet.google.com/pck-edpv-yme\nPhone Numbers\n(‪US‬)\n‪+1 510-945-
 0203‬\nPIN: ‪730 322 914#‬
DTSTART;TZID=America/New_York:20241016T173000
DTEND;TZID=America/New_York:20241016T183000
LOCATION:
SUMMARY:SFCS Board Meeting
END:VEVENT
END:VCALENDAR
