BEGIN:VCALENDAR
VERSION:2.0
PRODID:-//www.strongfoundationsnh.org//NONSGML kigkonsult.se iCalcreator 2.
 30.10//
CALSCALE:GREGORIAN
METHOD:PUBLISH
UID:c0a41c39-9068-41c6-bfad-52ae9a94de6d
X-WR-CALDESC:Staff PD Day
X-WR-RELCALID:81bc12ce187bc725ffee09b271672808
X-WR-TIMEZONE:America/New_York
BEGIN:VTIMEZONE
TZID:America/New_York
BEGIN:STANDARD
TZNAME:EST
DTSTART:20231105T020000
TZOFFSETFROM:-0400
TZOFFSETTO:-0500
RDATE:20241103T020000
RDATE:20251102T020000
END:STANDARD
BEGIN:DAYLIGHT
TZNAME:EDT
DTSTART:20240310T020000
TZOFFSETFROM:-0500
TZOFFSETTO:-0400
RDATE:20250309T020000
RDATE:20260308T020000
END:DAYLIGHT
END:VTIMEZONE
BEGIN:VEVENT
UID:404ce8ac-5227-4ebc-b593-aae2a4deab38
DTSTAMP:20260421T093746Z
DESCRIPTION:Staff PD Day
DTSTART;TZID=America/New_York:20241018T060000
DTEND;TZID=America/New_York:20241018T060001
LOCATION:
SUMMARY:Student Half-Day
END:VEVENT
END:VCALENDAR
