BEGIN:VCALENDAR
VERSION:2.0
PRODID:-//www.strongfoundationsnh.org//NONSGML kigkonsult.se iCalcreator 2.
 30.10//
CALSCALE:GREGORIAN
METHOD:PUBLISH
UID:805a2765-228d-468b-8301-7939d09f535e
X-WR-CALDESC:
X-WR-RELCALID:9b3ac9760053d85ceb48260fd0c5b70d
X-WR-TIMEZONE:America/New_York
BEGIN:VTIMEZONE
TZID:America/New_York
BEGIN:STANDARD
TZNAME:EST
DTSTART:20231105T020000
TZOFFSETFROM:-0400
TZOFFSETTO:-0500
RDATE:20241103T020000
RDATE:20251102T020000
END:STANDARD
BEGIN:DAYLIGHT
TZNAME:EDT
DTSTART:20240310T020000
TZOFFSETFROM:-0500
TZOFFSETTO:-0400
RDATE:20250309T020000
RDATE:20260308T020000
END:DAYLIGHT
END:VTIMEZONE
BEGIN:VEVENT
UID:81c1d577-18fb-46b5-b042-4cb458bfd295
DTSTAMP:20260421T061417Z
DESCRIPTION:
DTSTART;TZID=America/New_York:20241026T180000
DTEND;TZID=America/New_York:20241026T200000
LOCATION:
SUMMARY:Trunk or Treat
END:VEVENT
END:VCALENDAR
