BEGIN:VCALENDAR
VERSION:2.0
PRODID:-//www.strongfoundationsnh.org//NONSGML kigkonsult.se iCalcreator 2.
 30.10//
CALSCALE:GREGORIAN
METHOD:PUBLISH
UID:004dfbc8-125e-40e1-8864-c7d4b2dc8b93
X-WR-CALDESC:Dinner will be 5:00-6:00 PM and BINGO will be 6:30-7:30 PM\n\n
 This event will serve as a fundraising opportunity for our 7th and 8th gra
 de students attending the class trip to Washington\, D.C. this spring!
X-WR-RELCALID:fdbfef06f32e07923af2adf9dfbf6d3b
X-WR-TIMEZONE:America/New_York
BEGIN:VTIMEZONE
TZID:America/New_York
BEGIN:STANDARD
TZNAME:EST
DTSTART:20241103T020000
TZOFFSETFROM:-0400
TZOFFSETTO:-0500
RDATE:20251102T020000
END:STANDARD
BEGIN:DAYLIGHT
TZNAME:EDT
DTSTART:20240310T020000
TZOFFSETFROM:-0500
TZOFFSETTO:-0400
RDATE:20250309T020000
RDATE:20260308T020000
END:DAYLIGHT
END:VTIMEZONE
BEGIN:VEVENT
UID:aa0c61b9-f380-4cdd-8ee0-16a41ff11227
DTSTAMP:20260421T042309Z
DESCRIPTION:Dinner will be 5:00-6:00 PM and BINGO will be 6:30-7:30 PM\n\nT
 his event will serve as a fundraising opportunity for our 7th and 8th grad
 e students attending the class trip to Washington\, D.C. this spring!
DTSTART;TZID=America/New_York:20241109T170000
DTEND;TZID=America/New_York:20241109T193000
LOCATION:
SUMMARY:Spaghetti and Bingo Fundraiser
END:VEVENT
END:VCALENDAR
