BEGIN:VCALENDAR
VERSION:2.0
PRODID:-//www.strongfoundationsnh.org//NONSGML kigkonsult.se iCalcreator 2.
 30.10//
CALSCALE:GREGORIAN
METHOD:PUBLISH
UID:bbc5ce2f-44fd-4572-a393-65ae2a8695ed
X-WR-CALDESC:
X-WR-RELCALID:6e292e0432f6082f6cf94b2bdd019825
X-WR-TIMEZONE:America/New_York
BEGIN:VTIMEZONE
TZID:America/New_York
BEGIN:STANDARD
TZNAME:EST
DTSTART:20241103T020000
TZOFFSETFROM:-0400
TZOFFSETTO:-0500
RDATE:20251102T020000
END:STANDARD
BEGIN:DAYLIGHT
TZNAME:EDT
DTSTART:20240310T020000
TZOFFSETFROM:-0500
TZOFFSETTO:-0400
RDATE:20250309T020000
RDATE:20260308T020000
END:DAYLIGHT
END:VTIMEZONE
BEGIN:VEVENT
UID:277a6f54-9ab1-49bd-a0ea-b116ca40087f
DTSTAMP:20260421T005503Z
DESCRIPTION:
DTSTART;TZID=America/New_York:20241112T093000
DTEND;TZID=America/New_York:20241112T103000
LOCATION:
SUMMARY:Veterans Day Celebration
END:VEVENT
END:VCALENDAR
