BEGIN:VCALENDAR
VERSION:2.0
PRODID:-//www.strongfoundationsnh.org//NONSGML kigkonsult.se iCalcreator 2.
 30.10//
CALSCALE:GREGORIAN
METHOD:PUBLISH
UID:6036521f-e2f5-4d8d-a6db-940a28011422
X-WR-CALDESC:
X-WR-RELCALID:871c819c2129b8205ad56847c403019f
X-WR-TIMEZONE:America/New_York
BEGIN:VTIMEZONE
TZID:America/New_York
BEGIN:STANDARD
TZNAME:EST
DTSTART:20241103T020000
TZOFFSETFROM:-0400
TZOFFSETTO:-0500
RDATE:20251102T020000
END:STANDARD
BEGIN:DAYLIGHT
TZNAME:EDT
DTSTART:20240310T020000
TZOFFSETFROM:-0500
TZOFFSETTO:-0400
RDATE:20250309T020000
RDATE:20260308T020000
END:DAYLIGHT
END:VTIMEZONE
BEGIN:VEVENT
UID:7f459a53-2add-411b-a5ad-4b1fa7dca743
DTSTAMP:20260421T004757Z
DESCRIPTION:
DTSTART;TZID=America/New_York:20241115T060000
DTEND;TZID=America/New_York:20241115T060001
LOCATION:
SUMMARY:Honor Roll Breakfast
END:VEVENT
END:VCALENDAR
