BEGIN:VCALENDAR
VERSION:2.0
PRODID:-//www.strongfoundationsnh.org//NONSGML kigkonsult.se iCalcreator 2.
 30.10//
CALSCALE:GREGORIAN
METHOD:PUBLISH
UID:9edf890c-a15f-402b-a4e1-c91ab847c29d
X-WR-CALDESC:SFCS Gym
X-WR-RELCALID:9e28d0e928ca21b127dd62d1f8bded36
X-WR-TIMEZONE:America/New_York
BEGIN:VTIMEZONE
TZID:America/New_York
BEGIN:STANDARD
TZNAME:EST
DTSTART:20241103T020000
TZOFFSETFROM:-0400
TZOFFSETTO:-0500
RDATE:20251102T020000
END:STANDARD
BEGIN:DAYLIGHT
TZNAME:EDT
DTSTART:20240310T020000
TZOFFSETFROM:-0500
TZOFFSETTO:-0400
RDATE:20250309T020000
RDATE:20260308T020000
END:DAYLIGHT
END:VTIMEZONE
BEGIN:VEVENT
UID:15866289-6fa5-404b-ae65-e4cce05e24bf
DTSTAMP:20260421T003935Z
DESCRIPTION:SFCS Gym
DTSTART;TZID=America/New_York:20241120T173000
DTEND;TZID=America/New_York:20241120T190000
LOCATION:
SUMMARY:Board Meeting
END:VEVENT
END:VCALENDAR
