BEGIN:VCALENDAR
VERSION:2.0
PRODID:-//www.strongfoundationsnh.org//NONSGML kigkonsult.se iCalcreator 2.
 30.10//
CALSCALE:GREGORIAN
METHOD:PUBLISH
UID:3ce5b8db-d6b4-483c-a9de-911374514989
X-WR-CALDESC:
X-WR-RELCALID:8ea41984831c66634a0086d01cd41e05
X-WR-TIMEZONE:America/New_York
BEGIN:VTIMEZONE
TZID:America/New_York
BEGIN:STANDARD
TZNAME:EST
DTSTART:20241103T020000
TZOFFSETFROM:-0400
TZOFFSETTO:-0500
RDATE:20251102T020000
END:STANDARD
BEGIN:DAYLIGHT
TZNAME:EDT
DTSTART:20240310T020000
TZOFFSETFROM:-0500
TZOFFSETTO:-0400
RDATE:20250309T020000
RDATE:20260308T020000
END:DAYLIGHT
END:VTIMEZONE
BEGIN:VEVENT
UID:99885cc5-bbf9-4e33-97c9-e7e3f9aa2a3f
DTSTAMP:20260420T225143Z
DESCRIPTION:
DTSTART;TZID=America/New_York:20241122T073000
DTEND;TZID=America/New_York:20241122T080000
LOCATION:
SUMMARY:Honor Roll Breakfast
END:VEVENT
END:VCALENDAR
