BEGIN:VCALENDAR
VERSION:2.0
PRODID:-//www.strongfoundationsnh.org//NONSGML kigkonsult.se iCalcreator 2.
 30.10//
CALSCALE:GREGORIAN
METHOD:PUBLISH
UID:a20a70a8-9820-4c50-a50d-a738ead77fbd
X-WR-CALDESC:
X-WR-RELCALID:f28cff68d30a00880a4e0219d42f520e
X-WR-TIMEZONE:America/New_York
BEGIN:VTIMEZONE
TZID:America/New_York
BEGIN:STANDARD
TZNAME:EST
DTSTART:20241103T020000
TZOFFSETFROM:-0400
TZOFFSETTO:-0500
RDATE:20251102T020000
END:STANDARD
BEGIN:DAYLIGHT
TZNAME:EDT
DTSTART:20240310T020000
TZOFFSETFROM:-0500
TZOFFSETTO:-0400
RDATE:20250309T020000
RDATE:20260308T020000
END:DAYLIGHT
END:VTIMEZONE
BEGIN:VEVENT
UID:28bc8988-6753-4ded-b1ef-229a0b766ef2
DTSTAMP:20260420T224019Z
DESCRIPTION:
DTSTART;TZID=America/New_York:20241128T060000
DTEND;TZID=America/New_York:20241129T060001
LOCATION:
SUMMARY:Thanksgiving Break
END:VEVENT
END:VCALENDAR
