BEGIN:VCALENDAR
VERSION:2.0
PRODID:-//www.strongfoundationsnh.org//NONSGML kigkonsult.se iCalcreator 2.
 30.10//
CALSCALE:GREGORIAN
METHOD:PUBLISH
UID:52cff375-75f6-4722-9fc7-620a2f341714
X-WR-CALDESC:
X-WR-RELCALID:9a70ea46e0cffc3d30cce364dc2e8148
X-WR-TIMEZONE:America/New_York
BEGIN:VTIMEZONE
TZID:America/New_York
BEGIN:STANDARD
TZNAME:EST
DTSTART:20241103T020000
TZOFFSETFROM:-0400
TZOFFSETTO:-0500
RDATE:20251102T020000
END:STANDARD
BEGIN:DAYLIGHT
TZNAME:EDT
DTSTART:20240310T020000
TZOFFSETFROM:-0500
TZOFFSETTO:-0400
RDATE:20250309T020000
RDATE:20260308T020000
END:DAYLIGHT
END:VTIMEZONE
BEGIN:VEVENT
UID:a39a6c1a-df09-4854-957a-bd858ae6d752
DTSTAMP:20260420T185637Z
DESCRIPTION:
DTSTART;TZID=America/New_York:20241204T160000
DTEND;TZID=America/New_York:20241204T170000
LOCATION:
SUMMARY:Teacher Meeting
END:VEVENT
END:VCALENDAR
