BEGIN:VCALENDAR
VERSION:2.0
PRODID:-//www.strongfoundationsnh.org//NONSGML kigkonsult.se iCalcreator 2.
 30.10//
CALSCALE:GREGORIAN
METHOD:PUBLISH
UID:db9d5c50-804b-4d97-9c73-3d9f0a534ea2
X-WR-CALDESC:
X-WR-RELCALID:79377bb0e3ed59f5ae187be4e272d238
X-WR-TIMEZONE:America/New_York
BEGIN:VTIMEZONE
TZID:America/New_York
BEGIN:STANDARD
TZNAME:EST
DTSTART:20241103T020000
TZOFFSETFROM:-0400
TZOFFSETTO:-0500
RDATE:20251102T020000
END:STANDARD
BEGIN:DAYLIGHT
TZNAME:EDT
DTSTART:20240310T020000
TZOFFSETFROM:-0500
TZOFFSETTO:-0400
RDATE:20250309T020000
RDATE:20260308T020000
END:DAYLIGHT
END:VTIMEZONE
BEGIN:VEVENT
UID:582cb713-74dd-408d-95c6-adb9b105c14a
DTSTAMP:20260420T151714Z
DESCRIPTION:
DTSTART;TZID=America/New_York:20241218T173000
DTEND;TZID=America/New_York:20241218T183000
LOCATION:715 Riverwood Drive\, Gym\, Pembroke\, NH 03275 US
SUMMARY:SFCS Board Meeting
END:VEVENT
END:VCALENDAR
