BEGIN:VCALENDAR
VERSION:2.0
PRODID:-//www.strongfoundationsnh.org//NONSGML kigkonsult.se iCalcreator 2.
 30.10//
CALSCALE:GREGORIAN
METHOD:PUBLISH
UID:6fdee9fb-9db9-4861-bb1f-487aebd6649a
X-WR-CALDESC:
X-WR-RELCALID:50fe7233c1f73aa5f4cc0697238b445a
X-WR-TIMEZONE:America/New_York
BEGIN:VTIMEZONE
TZID:America/New_York
BEGIN:STANDARD
TZNAME:EST
DTSTART:20241103T020000
TZOFFSETFROM:-0400
TZOFFSETTO:-0500
RDATE:20251102T020000
END:STANDARD
BEGIN:DAYLIGHT
TZNAME:EDT
DTSTART:20240310T020000
TZOFFSETFROM:-0500
TZOFFSETTO:-0400
RDATE:20250309T020000
RDATE:20260308T020000
END:DAYLIGHT
END:VTIMEZONE
BEGIN:VEVENT
UID:0b82e952-dee6-4d1d-b6e2-efa62ffa059c
DTSTAMP:20260420T151445Z
DESCRIPTION:
DTSTART;TZID=America/New_York:20241220T060000
DTEND;TZID=America/New_York:20241220T060001
LOCATION:
SUMMARY:Middle School Progress Reports
END:VEVENT
END:VCALENDAR
