BEGIN:VCALENDAR
VERSION:2.0
PRODID:-//www.strongfoundationsnh.org//NONSGML kigkonsult.se iCalcreator 2.
 30.10//
CALSCALE:GREGORIAN
METHOD:PUBLISH
UID:f1af34c4-397e-49f4-8d6e-4b62c2c8e43f
X-WR-CALDESC:
X-WR-RELCALID:1ea02b0b4856deeec74af2351f5d835f
X-WR-TIMEZONE:America/New_York
BEGIN:VTIMEZONE
TZID:America/New_York
BEGIN:STANDARD
TZNAME:EST
DTSTART:20241103T020000
TZOFFSETFROM:-0400
TZOFFSETTO:-0500
RDATE:20251102T020000
END:STANDARD
BEGIN:DAYLIGHT
TZNAME:EDT
DTSTART:20240310T020000
TZOFFSETFROM:-0500
TZOFFSETTO:-0400
RDATE:20250309T020000
RDATE:20260308T020000
END:DAYLIGHT
END:VTIMEZONE
BEGIN:VEVENT
UID:c734d5e7-81b9-45bc-84ca-afb325f6c18f
DTSTAMP:20260420T114828Z
DESCRIPTION:
DTSTART;TZID=America/New_York:20250103T123000
DTEND;TZID=America/New_York:20250103T173000
LOCATION:
SUMMARY:Ski Program
END:VEVENT
END:VCALENDAR
