BEGIN:VCALENDAR
VERSION:2.0
PRODID:-//www.strongfoundationsnh.org//NONSGML kigkonsult.se iCalcreator 2.
 30.10//
CALSCALE:GREGORIAN
METHOD:PUBLISH
UID:61e06cda-bf82-4ce4-bc43-914920bb7d9f
X-WR-CALDESC:In-person in the library at 715 Riverwood Drive\, Pembroke\, N
 H
X-WR-RELCALID:564f9aa7ca66fcbcb1b4f5a1f69fd0c3
X-WR-TIMEZONE:America/New_York
BEGIN:VTIMEZONE
TZID:America/New_York
BEGIN:STANDARD
TZNAME:EST
DTSTART:20241103T020000
TZOFFSETFROM:-0400
TZOFFSETTO:-0500
RDATE:20251102T020000
END:STANDARD
BEGIN:DAYLIGHT
TZNAME:EDT
DTSTART:20240310T020000
TZOFFSETFROM:-0500
TZOFFSETTO:-0400
RDATE:20250309T020000
RDATE:20260308T020000
END:DAYLIGHT
END:VTIMEZONE
BEGIN:VEVENT
UID:a97acbd4-13e5-45bb-b297-cb31e69418e3
DTSTAMP:20260420T081943Z
DESCRIPTION:In-person in the library at 715 Riverwood Drive\, Pembroke\, NH
DTSTART;TZID=America/New_York:20250115T170000
DTEND;TZID=America/New_York:20250115T173000
LOCATION:715 Riverwood Drive\, Pembroke\, AL 03275 US
SUMMARY:SFES Board Meeting
END:VEVENT
END:VCALENDAR
