BEGIN:VCALENDAR
VERSION:2.0
PRODID:-//www.strongfoundationsnh.org//NONSGML kigkonsult.se iCalcreator 2.
 30.10//
CALSCALE:GREGORIAN
METHOD:PUBLISH
UID:a22bc849-9de7-4fca-bb68-7dfe97447ab8
X-WR-CALDESC:
X-WR-RELCALID:bb36faac04a7400f843b90dbfad466b4
X-WR-TIMEZONE:America/New_York
BEGIN:VTIMEZONE
TZID:America/New_York
BEGIN:STANDARD
TZNAME:EST
DTSTART:20241103T020000
TZOFFSETFROM:-0400
TZOFFSETTO:-0500
RDATE:20251102T020000
RDATE:20261101T020000
END:STANDARD
BEGIN:DAYLIGHT
TZNAME:EDT
DTSTART:20250309T020000
TZOFFSETFROM:-0500
TZOFFSETTO:-0400
RDATE:20260308T020000
END:DAYLIGHT
END:VTIMEZONE
BEGIN:VEVENT
UID:528ee010-c510-4122-8665-66134ebda0ea
DTSTAMP:20260420T095435Z
DESCRIPTION:
DTSTART;TZID=America/New_York:20250827T173000
DTEND;TZID=America/New_York:20250827T183000
LOCATION:715 Riverwood Drive\, Pembroke\, AL 03275 US
SUMMARY:SFCS Board Meeting
END:VEVENT
END:VCALENDAR
