BEGIN:VCALENDAR
VERSION:2.0
PRODID:-//www.strongfoundationsnh.org//NONSGML kigkonsult.se iCalcreator 2.
 30.10//
CALSCALE:GREGORIAN
METHOD:PUBLISH
UID:1b579d9b-3b13-4be8-be2e-4eb01baa2c24
X-WR-CALDESC:
X-WR-RELCALID:dd5f677505c0335ae5ac310f0d624f9e
X-WR-TIMEZONE:America/New_York
BEGIN:VTIMEZONE
TZID:America/New_York
BEGIN:STANDARD
TZNAME:EST
DTSTART:20251102T020000
TZOFFSETFROM:-0400
TZOFFSETTO:-0500
RDATE:20261101T020000
END:STANDARD
BEGIN:DAYLIGHT
TZNAME:EDT
DTSTART:20250309T020000
TZOFFSETFROM:-0500
TZOFFSETTO:-0400
RDATE:20260308T020000
RDATE:20270314T020000
END:DAYLIGHT
END:VTIMEZONE
BEGIN:VEVENT
UID:0b1ff516-9b87-4ea5-b999-22844bb23132
DTSTAMP:20260421T075322Z
DESCRIPTION:
DTSTART;TZID=America/New_York:20251119T173000
DTEND;TZID=America/New_York:20251119T183000
LOCATION:715 Riverwood Drive\, Pembroke\, AL 03275 US
SUMMARY:SFCS Board Meeting
END:VEVENT
END:VCALENDAR
