BEGIN:VCALENDAR
VERSION:2.0
PRODID:-//www.strongfoundationsnh.org//NONSGML kigkonsult.se iCalcreator 2.
 30.10//
CALSCALE:GREGORIAN
METHOD:PUBLISH
UID:5ae19243-3a37-482f-9884-3e7d23cbe0a7
X-WR-CALDESC:
X-WR-RELCALID:a0913335147fdeb6be02cf98885f7aab
X-WR-TIMEZONE:America/New_York
BEGIN:VTIMEZONE
TZID:America/New_York
BEGIN:STANDARD
TZNAME:EST
DTSTART:20231105T020000
TZOFFSETFROM:-0400
TZOFFSETTO:-0500
RDATE:20241103T020000
RDATE:20251102T020000
END:STANDARD
BEGIN:DAYLIGHT
TZNAME:EDT
DTSTART:20240310T020000
TZOFFSETFROM:-0500
TZOFFSETTO:-0400
RDATE:20250309T020000
END:DAYLIGHT
END:VTIMEZONE
BEGIN:VEVENT
UID:7a6ebb86-c257-4947-9e5a-8b0122120b10
DTSTAMP:20260421T175322Z
DESCRIPTION:
DTSTART;TZID=America/New_York:20240826T060000
DTEND;TZID=America/New_York:20240829T060001
LOCATION:
SUMMARY:Teachers Start
END:VEVENT
END:VCALENDAR
