BEGIN:VCALENDAR
VERSION:2.0
PRODID:-//www.strongfoundationsnh.org//NONSGML kigkonsult.se iCalcreator 2.
 30.10//
CALSCALE:GREGORIAN
METHOD:PUBLISH
UID:af5f891d-ea72-4a90-bccb-3e9f3a68a177
X-WR-CALDESC:
X-WR-RELCALID:cc4554a48f6f82e496a1bb9b4424d67e
X-WR-TIMEZONE:America/New_York
BEGIN:VTIMEZONE
TZID:America/New_York
BEGIN:STANDARD
TZNAME:EST
DTSTART:20231105T020000
TZOFFSETFROM:-0400
TZOFFSETTO:-0500
RDATE:20241103T020000
RDATE:20251102T020000
END:STANDARD
BEGIN:DAYLIGHT
TZNAME:EDT
DTSTART:20240310T020000
TZOFFSETFROM:-0500
TZOFFSETTO:-0400
RDATE:20250309T020000
RDATE:20260308T020000
END:DAYLIGHT
END:VTIMEZONE
BEGIN:VEVENT
UID:b2af26f7-8339-4776-ae05-83dbf13db694
DTSTAMP:20260421T145146Z
DESCRIPTION:
DTSTART;TZID=America/New_York:20240912T170000
DTEND;TZID=America/New_York:20240912T190000
LOCATION:
SUMMARY:Family Picnic
END:VEVENT
END:VCALENDAR
