BEGIN:VCALENDAR
VERSION:2.0
PRODID:-//www.strongfoundationsnh.org//NONSGML kigkonsult.se iCalcreator 2.
 30.10//
CALSCALE:GREGORIAN
METHOD:PUBLISH
UID:552a1704-cca4-4457-832f-a6b6767963b3
X-WR-CALDESC:
X-WR-RELCALID:76b2608c6417afb4fa42066e77700779
X-WR-TIMEZONE:America/New_York
BEGIN:VTIMEZONE
TZID:America/New_York
BEGIN:STANDARD
TZNAME:EST
DTSTART:20231105T020000
TZOFFSETFROM:-0400
TZOFFSETTO:-0500
RDATE:20241103T020000
RDATE:20251102T020000
END:STANDARD
BEGIN:DAYLIGHT
TZNAME:EDT
DTSTART:20240310T020000
TZOFFSETFROM:-0500
TZOFFSETTO:-0400
RDATE:20250309T020000
RDATE:20260308T020000
END:DAYLIGHT
END:VTIMEZONE
BEGIN:VEVENT
UID:b8775f78-cc8f-464e-bfe8-e784a5fa16ff
DTSTAMP:20260421T125615Z
DESCRIPTION:
DTSTART;TZID=America/New_York:20240919T060000
DTEND;TZID=America/New_York:20240919T060001
LOCATION:
SUMMARY:Sibling Pictures
END:VEVENT
END:VCALENDAR
