BEGIN:VCALENDAR
VERSION:2.0
PRODID:-//www.strongfoundationsnh.org//NONSGML kigkonsult.se iCalcreator 2.
 30.10//
CALSCALE:GREGORIAN
METHOD:PUBLISH
UID:91e08f6f-9539-4bcb-b19d-d634afcbed9f
X-WR-CALDESC:
X-WR-RELCALID:af1f6dde4a5f90a6ab1aea36658d4504
X-WR-TIMEZONE:America/New_York
BEGIN:VTIMEZONE
TZID:America/New_York
BEGIN:STANDARD
TZNAME:EST
DTSTART:20231105T020000
TZOFFSETFROM:-0400
TZOFFSETTO:-0500
RDATE:20241103T020000
RDATE:20251102T020000
END:STANDARD
BEGIN:DAYLIGHT
TZNAME:EDT
DTSTART:20240310T020000
TZOFFSETFROM:-0500
TZOFFSETTO:-0400
RDATE:20250309T020000
RDATE:20260308T020000
END:DAYLIGHT
END:VTIMEZONE
BEGIN:VEVENT
UID:45f8fd79-fe10-4768-84c2-aa6f611f61af
DTSTAMP:20260421T111824Z
DESCRIPTION:
DTSTART;TZID=America/New_York:20240928T100000
DTEND;TZID=America/New_York:20240928T120000
LOCATION:
SUMMARY:SFCS Day at Carter Hill
END:VEVENT
END:VCALENDAR
