BEGIN:VCALENDAR
VERSION:2.0
PRODID:-//www.strongfoundationsnh.org//NONSGML kigkonsult.se iCalcreator 2.
 30.10//
CALSCALE:GREGORIAN
METHOD:PUBLISH
UID:ebee14b8-f05a-4b4c-af7d-e6007e5eaece
X-WR-CALDESC:
X-WR-RELCALID:910e56a6f8b797a25cd56c4aabeae7ab
X-WR-TIMEZONE:America/New_York
BEGIN:VTIMEZONE
TZID:America/New_York
BEGIN:STANDARD
TZNAME:EST
DTSTART:20231105T020000
TZOFFSETFROM:-0400
TZOFFSETTO:-0500
RDATE:20241103T020000
RDATE:20251102T020000
END:STANDARD
BEGIN:DAYLIGHT
TZNAME:EDT
DTSTART:20240310T020000
TZOFFSETFROM:-0500
TZOFFSETTO:-0400
RDATE:20250309T020000
RDATE:20260308T020000
END:DAYLIGHT
END:VTIMEZONE
BEGIN:VEVENT
UID:cb64f6fb-113c-43cf-b19a-007531bc78d4
DTSTAMP:20260421T074507Z
DESCRIPTION:
DTSTART;TZID=America/New_York:20241019T090000
DTEND;TZID=America/New_York:20241019T140000
LOCATION:
SUMMARY:SFCS Craft Fair
END:VEVENT
END:VCALENDAR
