BEGIN:VCALENDAR
VERSION:2.0
PRODID:-//www.strongfoundationsnh.org//NONSGML kigkonsult.se iCalcreator 2.
 30.10//
CALSCALE:GREGORIAN
METHOD:PUBLISH
UID:576d52e3-b4c4-410c-a4a4-2c855201b14f
X-WR-CALDESC:
X-WR-RELCALID:ff636d697d9ba7b2b1b5ae34ccf1f696
X-WR-TIMEZONE:America/New_York
BEGIN:VTIMEZONE
TZID:America/New_York
BEGIN:STANDARD
TZNAME:EST
DTSTART:20231105T020000
TZOFFSETFROM:-0400
TZOFFSETTO:-0500
RDATE:20241103T020000
RDATE:20251102T020000
END:STANDARD
BEGIN:DAYLIGHT
TZNAME:EDT
DTSTART:20240310T020000
TZOFFSETFROM:-0500
TZOFFSETTO:-0400
RDATE:20250309T020000
RDATE:20260308T020000
END:DAYLIGHT
END:VTIMEZONE
BEGIN:VEVENT
UID:acc1f68b-6bef-4a22-8861-0a42b5f35c94
DTSTAMP:20260421T042756Z
DESCRIPTION:
DTSTART;TZID=America/New_York:20241023T160000
DTEND;TZID=America/New_York:20241023T170000
LOCATION:
SUMMARY:Teacher Meeting
END:VEVENT
END:VCALENDAR
