BEGIN:VCALENDAR
VERSION:2.0
PRODID:-//www.strongfoundationsnh.org//NONSGML kigkonsult.se iCalcreator 2.
 30.10//
CALSCALE:GREGORIAN
METHOD:PUBLISH
UID:af2c8bfd-d437-4797-9bf8-e5969f61325d
X-WR-CALDESC:
X-WR-RELCALID:c39bc0e9bc5b1ff54b87e9dda8cc7ca1
X-WR-TIMEZONE:America/New_York
BEGIN:VTIMEZONE
TZID:America/New_York
BEGIN:STANDARD
TZNAME:EST
DTSTART:20231105T020000
TZOFFSETFROM:-0400
TZOFFSETTO:-0500
RDATE:20241103T020000
RDATE:20251102T020000
END:STANDARD
BEGIN:DAYLIGHT
TZNAME:EDT
DTSTART:20240310T020000
TZOFFSETFROM:-0500
TZOFFSETTO:-0400
RDATE:20250309T020000
RDATE:20260308T020000
END:DAYLIGHT
END:VTIMEZONE
BEGIN:VEVENT
UID:bdef43ba-6513-436a-88c9-699da719c08d
DTSTAMP:20260421T042130Z
DESCRIPTION:
DTSTART;TZID=America/New_York:20241025T060000
DTEND;TZID=America/New_York:20241025T060001
LOCATION:
SUMMARY:Q1 Grades Close
END:VEVENT
END:VCALENDAR
