BEGIN:VCALENDAR
VERSION:2.0
PRODID:-//www.strongfoundationsnh.org//NONSGML kigkonsult.se iCalcreator 2.
 30.10//
CALSCALE:GREGORIAN
METHOD:PUBLISH
UID:f62a38d2-4aeb-4e1b-aa38-18f0957d9528
X-WR-CALDESC:
X-WR-RELCALID:d9506f754e8d239f355769d22d2f72a2
X-WR-TIMEZONE:America/New_York
BEGIN:VTIMEZONE
TZID:America/New_York
BEGIN:STANDARD
TZNAME:EST
DTSTART:20231105T020000
TZOFFSETFROM:-0400
TZOFFSETTO:-0500
RDATE:20241103T020000
RDATE:20251102T020000
END:STANDARD
BEGIN:DAYLIGHT
TZNAME:EDT
DTSTART:20240310T020000
TZOFFSETFROM:-0500
TZOFFSETTO:-0400
RDATE:20250309T020000
RDATE:20260308T020000
END:DAYLIGHT
END:VTIMEZONE
BEGIN:VEVENT
UID:b71aa642-327b-44ac-84da-742730105b55
DTSTAMP:20260421T041805Z
DESCRIPTION:
DTSTART;TZID=America/New_York:20241026T160000
DTEND;TZID=America/New_York:20241026T180000
LOCATION:
SUMMARY:Kiss a Cow Fundraiser
END:VEVENT
END:VCALENDAR
