BEGIN:VCALENDAR
VERSION:2.0
PRODID:-//www.strongfoundationsnh.org//NONSGML kigkonsult.se iCalcreator 2.
 30.10//
CALSCALE:GREGORIAN
METHOD:PUBLISH
UID:f9b36809-b53c-4ff5-910e-fb49de8d506e
X-WR-CALDESC:Meeting in the SFCS Gym or online at \nMeeting ID\nmeet.google
 .com/ktm-yuwk-rpe\nPhone Numbers\n(‪US‬)‪+1 413-398-0794‬\nPIN: ‪992 890 0
 21#‬\n
X-WR-RELCALID:d62d4faed3513f5ab781aa4d5a17f988
X-WR-TIMEZONE:America/New_York
BEGIN:VTIMEZONE
TZID:America/New_York
BEGIN:STANDARD
TZNAME:EST
DTSTART:20241103T020000
TZOFFSETFROM:-0400
TZOFFSETTO:-0500
RDATE:20251102T020000
END:STANDARD
BEGIN:DAYLIGHT
TZNAME:EDT
DTSTART:20240310T020000
TZOFFSETFROM:-0500
TZOFFSETTO:-0400
RDATE:20250309T020000
RDATE:20260308T020000
END:DAYLIGHT
END:VTIMEZONE
BEGIN:VEVENT
UID:7cc25231-e55d-450b-9951-93a4aa83192c
DTSTAMP:20260421T004133Z
DESCRIPTION:Meeting in the SFCS Gym or online at \nMeeting ID\nmeet.google.
 com/ktm-yuwk-rpe\nPhone Numbers\n(‪US‬)‪+1 413-398-0794‬\nPIN: ‪992 890 02
 1#‬\n
DTSTART;TZID=America/New_York:20241106T173000
DTEND;TZID=America/New_York:20241106T173000
LOCATION:715 Riverwood Drive\, Pembroke\, AL 03275 US
SUMMARY:SFCS Board Meeting
END:VEVENT
END:VCALENDAR
