BEGIN:VCALENDAR
VERSION:2.0
PRODID:-//www.strongfoundationsnh.org//NONSGML kigkonsult.se iCalcreator 2.
 30.10//
CALSCALE:GREGORIAN
METHOD:PUBLISH
UID:b9ea2a27-62c1-41cf-ab38-165c500394a4
X-WR-CALDESC:
X-WR-RELCALID:4597e0f4aef403888b7d0ff3bd4d7078
X-WR-TIMEZONE:America/New_York
BEGIN:VTIMEZONE
TZID:America/New_York
BEGIN:STANDARD
TZNAME:EST
DTSTART:20231105T020000
TZOFFSETFROM:-0400
TZOFFSETTO:-0500
RDATE:20241103T020000
RDATE:20251102T020000
END:STANDARD
BEGIN:DAYLIGHT
TZNAME:EDT
DTSTART:20240310T020000
TZOFFSETFROM:-0500
TZOFFSETTO:-0400
RDATE:20250309T020000
RDATE:20260308T020000
END:DAYLIGHT
END:VTIMEZONE
BEGIN:VEVENT
UID:23e242e1-04a0-4dc0-9ed9-be5ae7a13f6b
DTSTAMP:20260421T004537Z
DESCRIPTION:
DTSTART;TZID=America/New_York:20241104T080000
DTEND;TZID=America/New_York:20241108T173000
LOCATION:
SUMMARY:Book Fair
END:VEVENT
END:VCALENDAR
