BEGIN:VCALENDAR
VERSION:2.0
PRODID:-//www.strongfoundationsnh.org//NONSGML kigkonsult.se iCalcreator 2.
 30.10//
CALSCALE:GREGORIAN
METHOD:PUBLISH
UID:9d9ef631-eef4-48b9-907e-0e601befa465
X-WR-CALDESC:Conferences 12:30-7:00pm\n\nReport Cards
X-WR-RELCALID:28f98fb139b91ebb94de633181da4b6e
X-WR-TIMEZONE:America/New_York
BEGIN:VTIMEZONE
TZID:America/New_York
BEGIN:STANDARD
TZNAME:EST
DTSTART:20241103T020000
TZOFFSETFROM:-0400
TZOFFSETTO:-0500
RDATE:20251102T020000
END:STANDARD
BEGIN:DAYLIGHT
TZNAME:EDT
DTSTART:20240310T020000
TZOFFSETFROM:-0500
TZOFFSETTO:-0400
RDATE:20250309T020000
RDATE:20260308T020000
END:DAYLIGHT
END:VTIMEZONE
BEGIN:VEVENT
UID:159371f0-930a-426f-8920-4ea4623b1a13
DTSTAMP:20260421T003634Z
DESCRIPTION:Conferences 12:30-7:00pm\n\nReport Cards
DTSTART;TZID=America/New_York:20241108T123000
DTEND;TZID=America/New_York:20241108T190000
LOCATION:
SUMMARY:Parent Conferences - Half-Day
END:VEVENT
END:VCALENDAR
