BEGIN:VCALENDAR
VERSION:2.0
PRODID:-//www.strongfoundationsnh.org//NONSGML kigkonsult.se iCalcreator 2.
 30.10//
CALSCALE:GREGORIAN
METHOD:PUBLISH
UID:cdf740d9-59e2-458d-8f25-37925eec65ff
X-WR-CALDESC:
X-WR-RELCALID:102c31090e8125a8f7f4a41591059263
X-WR-TIMEZONE:America/New_York
BEGIN:VTIMEZONE
TZID:America/New_York
BEGIN:STANDARD
TZNAME:EST
DTSTART:20241103T020000
TZOFFSETFROM:-0400
TZOFFSETTO:-0500
RDATE:20251102T020000
END:STANDARD
BEGIN:DAYLIGHT
TZNAME:EDT
DTSTART:20240310T020000
TZOFFSETFROM:-0500
TZOFFSETTO:-0400
RDATE:20250309T020000
RDATE:20260308T020000
END:DAYLIGHT
END:VTIMEZONE
BEGIN:VEVENT
UID:65e6a7e2-64c3-4f23-a797-e3e43541096a
DTSTAMP:20260420T224856Z
DESCRIPTION:
DTSTART;TZID=America/New_York:20241123T093000
DTEND;TZID=America/New_York:20241123T103000
LOCATION:
SUMMARY:Concord Christmas Parade
END:VEVENT
END:VCALENDAR
