BEGIN:VCALENDAR
VERSION:2.0
PRODID:-//www.strongfoundationsnh.org//NONSGML kigkonsult.se iCalcreator 2.
 30.10//
CALSCALE:GREGORIAN
METHOD:PUBLISH
UID:d6a46f06-49c4-413a-a421-fee3f4cb0e26
X-WR-CALDESC:
X-WR-RELCALID:4be65e136dde9501171328068b121392
X-WR-TIMEZONE:America/New_York
BEGIN:VTIMEZONE
TZID:America/New_York
BEGIN:STANDARD
TZNAME:EST
DTSTART:20241103T020000
TZOFFSETFROM:-0400
TZOFFSETTO:-0500
RDATE:20251102T020000
END:STANDARD
BEGIN:DAYLIGHT
TZNAME:EDT
DTSTART:20240310T020000
TZOFFSETFROM:-0500
TZOFFSETTO:-0400
RDATE:20250309T020000
RDATE:20260308T020000
END:DAYLIGHT
END:VTIMEZONE
BEGIN:VEVENT
UID:e8b0ecaf-52ef-4745-b89b-42b834066857
DTSTAMP:20260420T203659Z
DESCRIPTION:
DTSTART;TZID=America/New_York:20241127T073000
DTEND;TZID=America/New_York:20241127T120000
LOCATION:
SUMMARY:Thanksgiving Half-Day
END:VEVENT
END:VCALENDAR
