BEGIN:VCALENDAR
VERSION:2.0
PRODID:-//www.strongfoundationsnh.org//NONSGML kigkonsult.se iCalcreator 2.
 30.10//
CALSCALE:GREGORIAN
METHOD:PUBLISH
UID:a61b5145-81bf-45b3-8ade-96058bcb9d14
X-WR-CALDESC:
X-WR-RELCALID:895a23541ef5b353123e07c680f48eeb
X-WR-TIMEZONE:America/New_York
BEGIN:VTIMEZONE
TZID:America/New_York
BEGIN:STANDARD
TZNAME:EST
DTSTART:20241103T020000
TZOFFSETFROM:-0400
TZOFFSETTO:-0500
RDATE:20251102T020000
END:STANDARD
BEGIN:DAYLIGHT
TZNAME:EDT
DTSTART:20240310T020000
TZOFFSETFROM:-0500
TZOFFSETTO:-0400
RDATE:20250309T020000
RDATE:20260308T020000
END:DAYLIGHT
END:VTIMEZONE
BEGIN:VEVENT
UID:cc7ef175-5db6-41dc-b89b-4fe8c492b55b
DTSTAMP:20260420T115620Z
DESCRIPTION:
DTSTART;TZID=America/New_York:20241223T060000
DTEND;TZID=America/New_York:20250101T060001
LOCATION:
SUMMARY:Holiday Break
END:VEVENT
END:VCALENDAR
