BEGIN:VCALENDAR
VERSION:2.0
PRODID:-//www.strongfoundationsnh.org//NONSGML kigkonsult.se iCalcreator 2.
 30.10//
CALSCALE:GREGORIAN
METHOD:PUBLISH
UID:e98d66a4-d2a4-4597-8ab6-8bfd8ac26ae8
X-WR-CALDESC:
X-WR-RELCALID:efbb9b40e832291a13c82b8f76e50fb6
X-WR-TIMEZONE:America/New_York
BEGIN:VTIMEZONE
TZID:America/New_York
BEGIN:STANDARD
TZNAME:EST
DTSTART:20241103T020000
TZOFFSETFROM:-0400
TZOFFSETTO:-0500
RDATE:20251102T020000
RDATE:20261101T020000
END:STANDARD
BEGIN:DAYLIGHT
TZNAME:EDT
DTSTART:20250309T020000
TZOFFSETFROM:-0500
TZOFFSETTO:-0400
RDATE:20260308T020000
RDATE:20270314T020000
END:DAYLIGHT
END:VTIMEZONE
BEGIN:VEVENT
UID:6f5f3beb-74f8-4535-b0a5-905d08994fb2
DTSTAMP:20260420T150815Z
DESCRIPTION:
DTSTART;TZID=America/New_York:20250924T053000
DTEND;TZID=America/New_York:20250924T190000
LOCATION:715 Riverwood Drive\, Pembroke\, NH 03275 US
SUMMARY:SFCS Board Meeting
END:VEVENT
END:VCALENDAR
