BEGIN:VCALENDAR
VERSION:2.0
PRODID:-//www.strongfoundationsnh.org//NONSGML kigkonsult.se iCalcreator 2.
 30.10//
CALSCALE:GREGORIAN
METHOD:PUBLISH
UID:af58e505-b03e-4982-b001-eb1ec2af8e2d
X-WR-CALDESC:Nonpublic session of the Board
X-WR-RELCALID:5ecf8b22049168a6a7f7937971d72960
X-WR-TIMEZONE:America/New_York
BEGIN:VTIMEZONE
TZID:America/New_York
BEGIN:STANDARD
TZNAME:EST
DTSTART:20241103T020000
TZOFFSETFROM:-0400
TZOFFSETTO:-0500
RDATE:20251102T020000
RDATE:20261101T020000
END:STANDARD
BEGIN:DAYLIGHT
TZNAME:EDT
DTSTART:20250309T020000
TZOFFSETFROM:-0500
TZOFFSETTO:-0400
RDATE:20260308T020000
RDATE:20270314T020000
END:DAYLIGHT
END:VTIMEZONE
BEGIN:VEVENT
UID:f5cd2cec-4347-4012-b483-f9f8ecca322b
DTSTAMP:20260420T203734Z
DESCRIPTION:Nonpublic session of the Board
DTSTART;TZID=America/New_York:20251013T173000
DTEND;TZID=America/New_York:20251013T183000
LOCATION:715 Riverwood Drive\, Pembroke\, NH 03275 US
SUMMARY:Nonpublic Board Meeting
END:VEVENT
END:VCALENDAR
