BEGIN:VCALENDAR
VERSION:2.0
PRODID:-//www.strongfoundationsnh.org//NONSGML kigkonsult.se iCalcreator 2.
 30.10//
CALSCALE:GREGORIAN
METHOD:PUBLISH
UID:dec458c0-cf79-458a-8bda-cca218e23610
X-WR-CALDESC:
X-WR-RELCALID:8d25b6114c9b91e8ab03b54cb5a7d891
X-WR-TIMEZONE:America/New_York
BEGIN:VTIMEZONE
TZID:America/New_York
BEGIN:STANDARD
TZNAME:EST
DTSTART:20241103T020000
TZOFFSETFROM:-0400
TZOFFSETTO:-0500
RDATE:20251102T020000
RDATE:20261101T020000
END:STANDARD
BEGIN:DAYLIGHT
TZNAME:EDT
DTSTART:20250309T020000
TZOFFSETFROM:-0500
TZOFFSETTO:-0400
RDATE:20260308T020000
RDATE:20270314T020000
END:DAYLIGHT
END:VTIMEZONE
BEGIN:VEVENT
UID:daa9f6a7-ec8f-4df8-addd-a9cf802c2128
DTSTAMP:20260421T002122Z
DESCRIPTION:
DTSTART;TZID=America/New_York:20251029T173000
DTEND;TZID=America/New_York:20251029T183000
LOCATION:715 Riverwood Drive\, Pembroke\, NH 03275 US
SUMMARY:SFCS Board Meeting
END:VEVENT
END:VCALENDAR
